BEGIN:VCALENDAR
VERSION:2.0
CREATED:20260421T224329Z
PRODID:-//Gulfport Energy Corporation/Equisolve Calendar v1.0//EN
METHOD:PUBLISH
BEGIN:VEVENT
UID:9566a2d6ac0e85b6fe4043123e011f20
DTSTAMP:20260423T143500Z
DTSTART:20260506T130000Z
DTEND:20260506T140000Z
SUMMARY:Q1 2026 Gulfport Energy Corp Earnings Conference Call
DESCRIPTION:Q1 2026 Gulfport Energy Corp Earnings Conference Call\nDate: May 6\, 2026 9:00 am EDT\nWebcast: https://event.choruscall.com/mediaframe/webcast.html?webcastid=gKQZ8u8X
END:VEVENT
END:VCALENDAR
